Package: EpiTxDb Version: 1.18.0 Command: /Library/Frameworks/R.framework/Resources/bin/R CMD check --install=check:EpiTxDb.install-out.txt --library=/Library/Frameworks/R.framework/Resources/library --no-vignettes --timings EpiTxDb_1.18.0.tar.gz StartedAt: 2025-04-01 18:36:37 -0400 (Tue, 01 Apr 2025) EndedAt: 2025-04-01 18:42:07 -0400 (Tue, 01 Apr 2025) EllapsedTime: 330.6 seconds RetCode: 0 Status: WARNINGS CheckDir: EpiTxDb.Rcheck Warnings: 1