Package: EpiMix Version: 1.8.0 Command: F:\biocbuild\bbs-3.20-bioc\R\bin\R.exe CMD check --no-multiarch --install=check:EpiMix.install-out.txt --library=F:\biocbuild\bbs-3.20-bioc\R\library --no-vignettes --timings EpiMix_1.8.0.tar.gz StartedAt: 2025-01-28 01:19:04 -0500 (Tue, 28 Jan 2025) EndedAt: 2025-01-28 01:29:13 -0500 (Tue, 28 Jan 2025) EllapsedTime: 608.9 seconds RetCode: 0 Status: OK CheckDir: EpiMix.Rcheck Warnings: 0