Package: EpiMix Version: 1.7.1 Command: F:\biocbuild\bbs-3.20-bioc\R\bin\R.exe CMD INSTALL EpiMix StartedAt: 2024-06-09 16:28:51 -0400 (Sun, 09 Jun 2024) EndedAt: 2024-06-09 16:29:58 -0400 (Sun, 09 Jun 2024) EllapsedTime: 67.6 seconds RetCode: 0 Status: OK