Package: EpiMix Version: 1.8.0 Command: /home/biocbuild/bbs-3.20-bioc/R/bin/R CMD check --install=check:EpiMix.install-out.txt --library=/home/biocbuild/bbs-3.20-bioc/R/site-library --timings EpiMix_1.8.0.tar.gz StartedAt: 2025-01-27 22:53:05 -0500 (Mon, 27 Jan 2025) EndedAt: 2025-01-27 23:07:31 -0500 (Mon, 27 Jan 2025) EllapsedTime: 865.9 seconds RetCode: 0 Status: OK CheckDir: EpiMix.Rcheck Warnings: 0