Package: EpiMix Version: 1.8.0 Command: /Library/Frameworks/R.framework/Resources/bin/R CMD build --keep-empty-dirs --no-resave-data EpiMix StartedAt: 2025-01-27 23:16:13 -0500 (Mon, 27 Jan 2025) EndedAt: 2025-01-27 23:23:21 -0500 (Mon, 27 Jan 2025) EllapsedTime: 428.3 seconds RetCode: 1 Status: ERROR PackageFile: None PackageFileSize: NA