Package: EpiCompare Version: 1.10.1 Command: /home/biocbuild/R/R/bin/R CMD build --keep-empty-dirs --no-resave-data EpiCompare StartedAt: 2025-03-31 23:18:11 -0000 (Mon, 31 Mar 2025) EndedAt: 2025-03-31 23:19:46 -0000 (Mon, 31 Mar 2025) EllapsedTime: 95.1 seconds RetCode: 0 Status: OK PackageFile: EpiCompare_1.10.1.tar.gz PackageFileSize: 1.945 MiB