Package: EnrichmentBrowser Version: 2.36.0 Command: chmod a+r EnrichmentBrowser -R && F:\biocbuild\bbs-3.20-bioc\R\bin\R.exe CMD build --keep-empty-dirs --no-resave-data EnrichmentBrowser StartedAt: 2025-03-31 18:40:08 -0400 (Mon, 31 Mar 2025) EndedAt: 2025-03-31 18:42:41 -0400 (Mon, 31 Mar 2025) EllapsedTime: 152.3 seconds RetCode: 0 Status: OK PackageFile: EnrichmentBrowser_2.36.0.tar.gz PackageFileSize: 1.264 MiB