Package: EnrichmentBrowser Version: 2.36.0 Command: /home/biocbuild/bbs-3.20-bioc/R/bin/R CMD INSTALL EnrichmentBrowser StartedAt: 2025-01-27 16:14:01 -0500 (Mon, 27 Jan 2025) EndedAt: 2025-01-27 16:14:38 -0500 (Mon, 27 Jan 2025) EllapsedTime: 36.8 seconds RetCode: 0 Status: OK