Package: EnrichmentBrowser Version: 2.36.0 Command: /Library/Frameworks/R.framework/Resources/bin/R CMD INSTALL EnrichmentBrowser StartedAt: 2025-01-27 15:41:13 -0500 (Mon, 27 Jan 2025) EndedAt: 2025-01-27 15:42:30 -0500 (Mon, 27 Jan 2025) EllapsedTime: 77.6 seconds RetCode: 0 Status: OK