Package: EnrichmentBrowser Version: 2.36.0 Command: /Library/Frameworks/R.framework/Resources/bin/R CMD check --install=check:EnrichmentBrowser.install-out.txt --library=/Library/Frameworks/R.framework/Resources/library --no-vignettes --timings EnrichmentBrowser_2.36.0.tar.gz StartedAt: 2025-02-04 03:16:31 -0500 (Tue, 04 Feb 2025) EndedAt: 2025-02-04 03:29:56 -0500 (Tue, 04 Feb 2025) EllapsedTime: 805.2 seconds RetCode: 0 Status: OK CheckDir: EnrichmentBrowser.Rcheck Warnings: 0