Package: EnrichmentBrowser Version: 2.36.0 Command: /Library/Frameworks/R.framework/Resources/bin/R CMD build --keep-empty-dirs --no-resave-data EnrichmentBrowser StartedAt: 2025-03-31 18:30:40 -0400 (Mon, 31 Mar 2025) EndedAt: 2025-03-31 18:34:42 -0400 (Mon, 31 Mar 2025) EllapsedTime: 242.3 seconds RetCode: 0 Status: OK PackageFile: EnrichmentBrowser_2.36.0.tar.gz PackageFileSize: 1.661 MiB