Package: EnrichmentBrowser Version: 2.36.0 Command: rm -rf EnrichmentBrowser.buildbin-libdir && mkdir EnrichmentBrowser.buildbin-libdir && /Users/biocbuild/BBS/utils/build-universal.sh EnrichmentBrowser_2.36.0.tar.gz /Library/Frameworks/R.framework/Resources/bin/R EnrichmentBrowser.buildbin-libdir StartedAt: 2025-04-01 11:49:43 -0400 (Tue, 01 Apr 2025) EndedAt: 2025-04-01 11:50:55 -0400 (Tue, 01 Apr 2025) EllapsedTime: 72.6 seconds RetCode: 0 Status: OK PackageFile: EnrichmentBrowser_2.36.0.tgz PackageFileSize: 1.865 MiB