Package: EnrichmentBrowser Version: 2.36.0 Command: /Library/Frameworks/R.framework/Resources/bin/R CMD build --keep-empty-dirs --no-resave-data EnrichmentBrowser StartedAt: 2025-01-27 23:11:28 -0500 (Mon, 27 Jan 2025) EndedAt: 2025-01-27 23:13:56 -0500 (Mon, 27 Jan 2025) EllapsedTime: 148.0 seconds RetCode: 0 Status: OK PackageFile: EnrichmentBrowser_2.36.0.tar.gz PackageFileSize: 1.662 MiB