Package: EnrichedHeatmap Version: 1.36.0 Command: /home/biocbuild/R/R/bin/R CMD INSTALL EnrichedHeatmap StartedAt: 2025-01-30 20:34:40 -0000 (Thu, 30 Jan 2025) EndedAt: 2025-01-30 20:35:03 -0000 (Thu, 30 Jan 2025) EllapsedTime: 23.0 seconds RetCode: 0 Status: OK