Package: EnrichedHeatmap Version: 1.36.0 Command: /home/biocbuild/R/R/bin/R CMD build --keep-empty-dirs --no-resave-data EnrichedHeatmap StartedAt: 2025-02-03 23:23:03 -0000 (Mon, 03 Feb 2025) EndedAt: 2025-02-03 23:29:54 -0000 (Mon, 03 Feb 2025) EllapsedTime: 411.1 seconds RetCode: 0 Status: OK PackageFile: EnrichedHeatmap_1.36.0.tar.gz PackageFileSize: 9.67 MiB