Package: EnrichedHeatmap Version: 1.36.0 Command: F:\biocbuild\bbs-3.20-bioc\R\bin\R.exe CMD check --no-multiarch --install=check:EnrichedHeatmap.install-out.txt --library=F:\biocbuild\bbs-3.20-bioc\R\library --no-vignettes --timings EnrichedHeatmap_1.36.0.tar.gz StartedAt: 2025-01-31 01:44:38 -0500 (Fri, 31 Jan 2025) EndedAt: 2025-01-31 01:47:20 -0500 (Fri, 31 Jan 2025) EllapsedTime: 161.7 seconds RetCode: 0 Status: OK CheckDir: EnrichedHeatmap.Rcheck Warnings: 0