Package: EnrichedHeatmap Version: 1.36.0 Command: /Library/Frameworks/R.framework/Resources/bin/R CMD INSTALL EnrichedHeatmap StartedAt: 2025-03-31 15:45:53 -0400 (Mon, 31 Mar 2025) EndedAt: 2025-03-31 15:46:31 -0400 (Mon, 31 Mar 2025) EllapsedTime: 38.7 seconds RetCode: 0 Status: OK