Package: EnrichDO Version: 1.0.0 Command: /home/biocbuild/R/R/bin/R CMD INSTALL EnrichDO StartedAt: 2025-01-27 21:48:17 -0000 (Mon, 27 Jan 2025) EndedAt: 2025-01-27 21:48:52 -0000 (Mon, 27 Jan 2025) EllapsedTime: 35.8 seconds RetCode: 0 Status: OK