Package: EnrichDO Version: 1.0.0 Command: /home/biocbuild/R/R/bin/R CMD check --install=check:EnrichDO.install-out.txt --library=/home/biocbuild/R/R/site-library --no-vignettes --timings EnrichDO_1.0.0.tar.gz StartedAt: 2025-04-01 06:11:28 -0000 (Tue, 01 Apr 2025) EndedAt: 2025-04-01 06:18:35 -0000 (Tue, 01 Apr 2025) EllapsedTime: 427.6 seconds RetCode: 0 Status: OK CheckDir: EnrichDO.Rcheck Warnings: 0