Package: EnrichDO Version: 1.0.0 Command: /home/biocbuild/R/R/bin/R CMD build --keep-empty-dirs --no-resave-data EnrichDO StartedAt: 2025-03-31 23:15:57 -0000 (Mon, 31 Mar 2025) EndedAt: 2025-03-31 23:18:02 -0000 (Mon, 31 Mar 2025) EllapsedTime: 125.1 seconds RetCode: 0 Status: OK PackageFile: EnrichDO_1.0.0.tar.gz PackageFileSize: 2.13 MiB