Package: EnrichDO Version: 1.0.0 Command: /Library/Frameworks/R.framework/Resources/bin/R CMD build --keep-empty-dirs --no-resave-data EnrichDO StartedAt: 2025-01-27 18:46:00 -0500 (Mon, 27 Jan 2025) EndedAt: 2025-01-27 18:49:20 -0500 (Mon, 27 Jan 2025) EllapsedTime: 200.3 seconds RetCode: 1 Status: ERROR PackageFile: None PackageFileSize: NA