Package: EnrichDO Version: 1.0.0 Command: /Library/Frameworks/R.framework/Resources/bin/R CMD build --keep-empty-dirs --no-resave-data EnrichDO StartedAt: 2025-01-27 23:09:14 -0500 (Mon, 27 Jan 2025) EndedAt: 2025-01-27 23:11:31 -0500 (Mon, 27 Jan 2025) EllapsedTime: 136.6 seconds RetCode: 1 Status: ERROR PackageFile: None PackageFileSize: NA