Package: EnhancedVolcano Version: 1.24.0 Command: /home/biocbuild/R/R/bin/R CMD build --keep-empty-dirs --no-resave-data EnhancedVolcano StartedAt: 2025-01-30 23:22:02 -0000 (Thu, 30 Jan 2025) EndedAt: 2025-01-30 23:24:10 -0000 (Thu, 30 Jan 2025) EllapsedTime: 128.0 seconds RetCode: 0 Status: OK PackageFile: EnhancedVolcano_1.24.0.tar.gz PackageFileSize: 6.174 MiB