Package: EnhancedVolcano Version: 1.24.0 Command: /Library/Frameworks/R.framework/Resources/bin/R CMD build --keep-empty-dirs --no-resave-data EnhancedVolcano StartedAt: 2025-03-31 22:59:31 -0400 (Mon, 31 Mar 2025) EndedAt: 2025-03-31 23:01:21 -0400 (Mon, 31 Mar 2025) EllapsedTime: 110.6 seconds RetCode: 0 Status: OK PackageFile: EnhancedVolcano_1.24.0.tar.gz PackageFileSize: 9.943 MiB