Package: EnMCB Version: 1.18.0 Command: /home/biocbuild/bbs-3.20-bioc/R/bin/R CMD check --install=check:EnMCB.install-out.txt --library=/home/biocbuild/bbs-3.20-bioc/R/site-library --timings EnMCB_1.18.0.tar.gz StartedAt: 2025-02-03 22:05:43 -0500 (Mon, 03 Feb 2025) EndedAt: 2025-02-03 22:08:15 -0500 (Mon, 03 Feb 2025) EllapsedTime: 152.1 seconds RetCode: 0 Status: OK CheckDir: EnMCB.Rcheck Warnings: 0