Package: EmpiricalBrownsMethod Version: 1.34.0 Command: F:\biocbuild\bbs-3.20-bioc\R\bin\R.exe CMD INSTALL EmpiricalBrownsMethod StartedAt: 2025-03-31 15:20:37 -0400 (Mon, 31 Mar 2025) EndedAt: 2025-03-31 15:21:09 -0400 (Mon, 31 Mar 2025) EllapsedTime: 32.2 seconds RetCode: 0 Status: OK