Package: EmpiricalBrownsMethod Version: 1.34.0 Command: /Library/Frameworks/R.framework/Resources/bin/R CMD build --keep-empty-dirs --no-resave-data EmpiricalBrownsMethod StartedAt: 2025-01-27 18:45:37 -0500 (Mon, 27 Jan 2025) EndedAt: 2025-01-27 18:45:46 -0500 (Mon, 27 Jan 2025) EllapsedTime: 8.7 seconds RetCode: 0 Status: OK PackageFile: EmpiricalBrownsMethod_1.34.0.tar.gz PackageFileSize: 38.69 KiB