Package: EWCE Version: 1.14.0 Command: F:\biocbuild\bbs-3.20-bioc\R\bin\R.exe CMD check --no-multiarch --install=check:EWCE.install-out.txt --library=F:\biocbuild\bbs-3.20-bioc\R\library --no-vignettes --timings EWCE_1.14.0.tar.gz StartedAt: 2025-02-04 01:45:28 -0500 (Tue, 04 Feb 2025) EndedAt: 2025-02-04 02:06:28 -0500 (Tue, 04 Feb 2025) EllapsedTime: 1260.4 seconds RetCode: 0 Status: OK CheckDir: EWCE.Rcheck Warnings: 0