Package: EWCE Version: 1.14.0 Command: chmod a+r EWCE -R && F:\biocbuild\bbs-3.20-bioc\R\bin\R.exe CMD build --keep-empty-dirs --no-resave-data EWCE StartedAt: 2025-02-03 19:02:28 -0500 (Mon, 03 Feb 2025) EndedAt: 2025-02-03 19:08:13 -0500 (Mon, 03 Feb 2025) EllapsedTime: 345.2 seconds RetCode: 0 Status: OK PackageFile: EWCE_1.14.0.tar.gz PackageFileSize: 1.797 MiB