Package: EWCE Version: 1.14.0 Command: /home/biocbuild/bbs-3.20-bioc/R/bin/R CMD build --keep-empty-dirs --no-resave-data --md5 EWCE StartedAt: 2025-02-10 17:16:07 -0500 (Mon, 10 Feb 2025) EndedAt: 2025-02-10 17:20:06 -0500 (Mon, 10 Feb 2025) EllapsedTime: 238.6 seconds RetCode: 0 Status: OK PackageFile: EWCE_1.14.0.tar.gz PackageFileSize: 2.719 MiB