Package: EWCE Version: 1.14.0 Command: /Library/Frameworks/R.framework/Resources/bin/R CMD INSTALL EWCE StartedAt: 2025-03-31 16:40:07 -0400 (Mon, 31 Mar 2025) EndedAt: 2025-03-31 16:41:22 -0400 (Mon, 31 Mar 2025) EllapsedTime: 74.8 seconds RetCode: 0 Status: OK