Package: ERSSA Version: 1.24.0 Command: /home/biocbuild/bbs-3.20-bioc/R/bin/R CMD check --install=check:ERSSA.install-out.txt --library=/home/biocbuild/bbs-3.20-bioc/R/site-library --timings ERSSA_1.24.0.tar.gz StartedAt: 2025-01-30 22:03:44 -0500 (Thu, 30 Jan 2025) EndedAt: 2025-01-30 22:08:23 -0500 (Thu, 30 Jan 2025) EllapsedTime: 279.2 seconds RetCode: 0 Status: OK CheckDir: ERSSA.Rcheck Warnings: 0