Package: ERSSA Version: 1.24.0 Command: /Library/Frameworks/R.framework/Resources/bin/R CMD INSTALL ERSSA StartedAt: 2025-01-27 16:00:43 -0500 (Mon, 27 Jan 2025) EndedAt: 2025-01-27 16:01:15 -0500 (Mon, 27 Jan 2025) EllapsedTime: 32.2 seconds RetCode: 0 Status: OK