Package: ENmix Version: 1.42.0 Command: /home/biocbuild/R/R/bin/R CMD INSTALL ENmix StartedAt: 2025-01-27 22:03:31 -0000 (Mon, 27 Jan 2025) EndedAt: 2025-01-27 22:04:37 -0000 (Mon, 27 Jan 2025) EllapsedTime: 66.0 seconds RetCode: 0 Status: OK