Package: ENmix Version: 1.42.0 Command: F:\biocbuild\bbs-3.20-bioc\R\bin\R.exe CMD INSTALL ENmix StartedAt: 2025-01-27 17:00:34 -0500 (Mon, 27 Jan 2025) EndedAt: 2025-01-27 17:01:45 -0500 (Mon, 27 Jan 2025) EllapsedTime: 70.9 seconds RetCode: 0 Status: OK