Package: ENmix Version: 1.42.0 Command: /home/biocbuild/bbs-3.20-bioc/R/bin/R CMD INSTALL ENmix StartedAt: 2025-02-03 16:06:07 -0500 (Mon, 03 Feb 2025) EndedAt: 2025-02-03 16:07:08 -0500 (Mon, 03 Feb 2025) EllapsedTime: 61.1 seconds RetCode: 0 Status: OK