Package: ENmix Version: 1.42.0 Command: /Library/Frameworks/R.framework/Resources/bin/R CMD INSTALL ENmix StartedAt: 2025-01-27 18:11:02 -0500 (Mon, 27 Jan 2025) EndedAt: 2025-01-27 18:12:03 -0500 (Mon, 27 Jan 2025) EllapsedTime: 60.1 seconds RetCode: 0 Status: OK