Package: ENmix Version: 1.42.0 Command: rm -rf ENmix.buildbin-libdir && mkdir ENmix.buildbin-libdir && /Users/biocbuild/BBS/utils/build-universal.sh ENmix_1.42.0.tar.gz /Library/Frameworks/R.framework/Resources/bin/R ENmix.buildbin-libdir StartedAt: 2025-02-05 15:43:21 -0500 (Wed, 05 Feb 2025) EndedAt: 2025-02-05 15:44:28 -0500 (Wed, 05 Feb 2025) EllapsedTime: 67.1 seconds RetCode: 0 Status: OK PackageFile: ENmix_1.42.0.tgz PackageFileSize: 19.7 MiB