Package: ELMER Version: 2.30.0 Command: /home/biocbuild/R/R/bin/R CMD check --install=check:ELMER.install-out.txt --library=/home/biocbuild/R/R/site-library --no-vignettes --timings ELMER_2.30.0.tar.gz StartedAt: 2025-01-28 06:50:11 -0000 (Tue, 28 Jan 2025) EndedAt: 2025-01-28 07:09:18 -0000 (Tue, 28 Jan 2025) EllapsedTime: 1146.1 seconds RetCode: 0 Status: OK CheckDir: ELMER.Rcheck Warnings: 0