Package: EGSEA Version: 1.34.0 Command: /home/biocbuild/bbs-3.20-bioc/R/bin/R CMD check --install=check:EGSEA.install-out.txt --library=/home/biocbuild/bbs-3.20-bioc/R/site-library --timings EGSEA_1.34.0.tar.gz StartedAt: 2025-01-27 22:48:17 -0500 (Mon, 27 Jan 2025) EndedAt: 2025-01-27 23:00:18 -0500 (Mon, 27 Jan 2025) EllapsedTime: 721.7 seconds RetCode: 0 Status: OK CheckDir: EGSEA.Rcheck Warnings: 0