Package: EGSEA Version: 1.34.0 Command: /Library/Frameworks/R.framework/Resources/bin/R CMD build --keep-empty-dirs --no-resave-data EGSEA StartedAt: 2025-02-03 18:43:08 -0500 (Mon, 03 Feb 2025) EndedAt: 2025-02-03 18:51:41 -0500 (Mon, 03 Feb 2025) EllapsedTime: 513.3 seconds RetCode: 0 Status: OK PackageFile: EGSEA_1.34.0.tar.gz PackageFileSize: 2.079 MiB