Package: EGSEA Version: 1.34.0 Command: /Library/Frameworks/R.framework/Resources/bin/R CMD build --keep-empty-dirs --no-resave-data EGSEA StartedAt: 2025-01-27 23:06:09 -0500 (Mon, 27 Jan 2025) EndedAt: 2025-01-27 23:11:28 -0500 (Mon, 27 Jan 2025) EllapsedTime: 319.6 seconds RetCode: 0 Status: OK PackageFile: EGSEA_1.34.0.tar.gz PackageFileSize: 2.084 MiB