Package: EGAD Version: 1.34.0 Command: /home/biocbuild/R/R/bin/R CMD check --install=check:EGAD.install-out.txt --library=/home/biocbuild/R/R/site-library --no-vignettes --timings EGAD_1.34.0.tar.gz StartedAt: 2025-01-31 05:56:23 -0000 (Fri, 31 Jan 2025) EndedAt: 2025-01-31 06:00:12 -0000 (Fri, 31 Jan 2025) EllapsedTime: 229.2 seconds RetCode: 0 Status: WARNINGS CheckDir: EGAD.Rcheck Warnings: 1