Package: EDIRquery Version: 1.6.0 Command: /home/biocbuild/R/R/bin/R CMD INSTALL EDIRquery StartedAt: 2025-02-03 20:33:02 -0000 (Mon, 03 Feb 2025) EndedAt: 2025-02-03 20:33:32 -0000 (Mon, 03 Feb 2025) EllapsedTime: 30.0 seconds RetCode: 0 Status: OK