Package: EDIRquery Version: 1.6.0 Command: /home/biocbuild/R/R/bin/R CMD build --keep-empty-dirs --no-resave-data EDIRquery StartedAt: 2025-02-03 23:21:16 -0000 (Mon, 03 Feb 2025) EndedAt: 2025-02-03 23:21:59 -0000 (Mon, 03 Feb 2025) EllapsedTime: 43.0 seconds RetCode: 0 Status: OK PackageFile: EDIRquery_1.6.0.tar.gz PackageFileSize: 1.368 MiB