Package: EDIRquery Version: 1.6.0 Command: /Library/Frameworks/R.framework/Resources/bin/R CMD check --install=check:EDIRquery.install-out.txt --library=/Library/Frameworks/R.framework/Resources/library --no-vignettes --timings EDIRquery_1.6.0.tar.gz StartedAt: 2025-01-28 03:22:25 -0500 (Tue, 28 Jan 2025) EndedAt: 2025-01-28 03:28:52 -0500 (Tue, 28 Jan 2025) EllapsedTime: 386.4 seconds RetCode: 0 Status: OK CheckDir: EDIRquery.Rcheck Warnings: 0