Package: EDIRquery Version: 1.6.0 Command: rm -rf EDIRquery.buildbin-libdir && mkdir EDIRquery.buildbin-libdir && /Users/biocbuild/BBS/utils/build-universal.sh EDIRquery_1.6.0.tar.gz /Library/Frameworks/R.framework/Resources/bin/R EDIRquery.buildbin-libdir StartedAt: 2025-01-29 14:30:23 -0500 (Wed, 29 Jan 2025) EndedAt: 2025-01-29 14:30:54 -0500 (Wed, 29 Jan 2025) EllapsedTime: 30.5 seconds RetCode: 0 Status: OK PackageFile: EDIRquery_1.6.0.tgz PackageFileSize: 1.687 MiB