Package: EDASeq Version: 2.40.0 Command: /home/biocbuild/R/R/bin/R CMD build --keep-empty-dirs --no-resave-data EDASeq StartedAt: 2025-01-30 23:20:24 -0000 (Thu, 30 Jan 2025) EndedAt: 2025-01-30 23:22:01 -0000 (Thu, 30 Jan 2025) EllapsedTime: 97.0 seconds RetCode: 0 Status: OK PackageFile: EDASeq_2.40.0.tar.gz PackageFileSize: 698.1 KiB