Package: EDASeq Version: 2.40.0 Command: /Library/Frameworks/R.framework/Resources/bin/R CMD INSTALL EDASeq StartedAt: 2025-02-03 16:19:29 -0500 (Mon, 03 Feb 2025) EndedAt: 2025-02-03 16:20:18 -0500 (Mon, 03 Feb 2025) EllapsedTime: 49.1 seconds RetCode: 0 Status: OK