Package: EDASeq Version: 2.40.0 Command: /Library/Frameworks/R.framework/Resources/bin/R CMD build --keep-empty-dirs --no-resave-data EDASeq StartedAt: 2025-03-31 22:56:34 -0400 (Mon, 31 Mar 2025) EndedAt: 2025-03-31 22:58:04 -0400 (Mon, 31 Mar 2025) EllapsedTime: 89.7 seconds RetCode: 0 Status: OK PackageFile: EDASeq_2.40.0.tar.gz PackageFileSize: 1.086 MiB